BEGIN:VCALENDAR
VERSION:2.0
PRODID:-//wp-events-plugin.com//6.6.4.4//EN
BEGIN:VEVENT
UID:3@rifefoundation.org
DTSTART:20230202T160000Z
DTEND:20230202T160000Z
DTSTAMP:20230223T214725Z
URL:https://rifefoundation.org/events/soul-food-stories/
SUMMARY:Soul Food Stories
DESCRIPTION:История за храната и душата / Soul Food 
 Stories\n\nреж. Тонислав Христов\, документал
 ен\, 69 мин\, 2013 /с английски субтитри/\n\nСат
 овча е малък град в България с население 
 от 2021 жители от различни етнически и рел
 игиозни групи (православни българи\, мюс
 юлмани турци\, помаци и роми евангелисти)
 . В миналото хората са били разделени зар
 ади постоянни конфликти\, но днес ги обед
 инява нещо много важно – храната. Когато
  обаче чиниите на масата са пълни с гордо
 ст\, национална идентичност\, общо минало
  и приятелство\, това може да доведе до из
 вестни проблеми.\nИстории за храната и ду
 шата е посветен не само на идеята\, че хра
 ната ни обединява. Той представя и начин
 и\, благодарение на които тя обогатява жи
 вота ни. Филмът разглежда и въпросите за 
 различните религии\, миналото и приемане
 то му\, семейството и децата.\n\nEN\nIn the Bulgaria
 n village of Satovchka\, there are as many philosophies of life as there a
 re inhabitants. Orthodox Bulgarians and Islamic Turks live here alongside 
 gypsies and communists. Violent conflicts are a thing of the past\, and th
 e villagers are united by friendly clubs they have set up themselves. Soul
  Food Stories zooms in on seven members of one of these clubs – all men\
 , who meet regularly and say they can solve all the world's problems over 
 a good meal.\nThe documentary shows interviews with this motley group of s
 even\, as well as a number of other members of the aging village populace\
 , including two Muslim women. Between the contemplative inhabitants\, ther
 e is also a Finnish family – the first tourists to stay longer than 10 d
 ays in Satovcha.
ATTACH;FMTTYPE=image/jpeg:https://rifefoundation.org/wp-content/uploads/20
 23/02/soul.png
CATEGORIES:Cinema in the Rhodopes: Screenings
LOCATION:Orfeevi Gori\, Gimnaziyalna 1\, Raykovo\, Smolyan\, Bulgaria
X-APPLE-STRUCTURED-LOCATION;VALUE=URI;X-ADDRESS=Gimnaziyalna 1\, Raykovo\, 
 Smolyan\, Bulgaria;X-APPLE-RADIUS=100;X-TITLE=Orfeevi Gori:geo:0,0
END:VEVENT
END:VCALENDAR